Workbook

Sheet 様式1
A1: 【様式1】申請書（申込書）
A3: 国立がん研究センター 理事長 殿
A5: 国立がん研究センターがん相談支援センター相談員基礎研修(3)提供可能な組織の募集
A6: 申請書（申込書）
A8: 様式1～6および参考資料をもって、国立がん研究センターのがん相談支援センター相談員基礎研修(3)の提供可能な組織の募集に応募いたします。組織要件やその他の要件は満たしており、提出書類に記載の内容は事実と相違ありません。
A10: 【様式2】 | B10: 申請資格申告書 兼 誓約書
A11: 【様式3】 | B11: 運営体制申請書
A12: 【様式4】 | B12: 開催体制申請書
A13: 【様式5】 | B13: 事業計画（予定）表
A14: 【様式6】 | B14: 年間収支計画書（概算）
A16: 番号 | B16: 項目名 | C16: 入力欄 | D16: 備考
A17: 1.01 | B17: 申請日 | D17: 【半角】yyyy/m/d形式で入力 （例）2025/12/1
A18: 1.02 | B18: 申請区分 | D18: ▼を押して【選択】 「1）新規」「2）継続」
A19: 1.03 | B19: 申請回数 | D19: ▼を押して【選択】 「1）初回」「2）2回目」
A20: 1.04 | B20: 申請年数 | D20: ▼を押して【選択】 「1）1年（2026年度）」「2）2年（2026・2027年度）」
A21: 1.05 | B21: 組織（団体）名 | D21: 正式名称を入力
A22: 1.06 | B22: 法人番号 | D22: 【半角】法人番号がある場合に入力 （例）6010005015219
A23: 1.07 | B23: 電話番号 | D23: 【半角】担当者の内線ではなく、施設の代表電話番号を、‐を入れずに入力 （例）0123456789
A24: 1.08 | B24: 郵便番号 | D24: 【半角】「〒」を入れず入力 （例）123-4567
A25: 1.09 | B25: 住所（都道府県） | D25: ▼を押して【選択】
A26: 1.1 | B26: 住所（市区町村以降） | D26: 市区町村から入力 丁目と番地は半角数字とハイフン（-）で入力 （例）○○区○○1-1-1
A27: 1.11 | B27: 理念・使命 | D27: 300字以内
A28: 1.12 | B28: 沿革 | D28: 300字以内
... A36: 1.2 | B36: 共催予定の組織③の 沿革・事業内容等 | D36: 300字以内
A37: 申請責任者（機関の長）
B38: 役職名 | D38: 役職名を入力（申請責任者欄は自動入力） （例）所長、センター長、理事長 等
B39: 姓 | D39: 申請責任者の姓を入力（申請責任者欄は自動入力）
B40: 名 | D40: 申請責任者の名を入力（申請責任者欄は自動入力）
A41: 1.21 | B41: 申請責任者 | C41: =C38&" "&C39&" "&C40
D42: （↑※押印してください。）

Sheet 様式2
A1: 【様式2】申請資格申告書 兼 誓約書
A3: 国立がん研究センターがん相談支援センター相談員基礎研修(3)提供可能な組織の募集
A4: 申請資格申告書 兼 誓約書
A6: 以下に記載する組織要件および必須要件を満たしていること（「×いいえ」「×約束できない」がないこと）を誓います。
A8: 番号 | B8: 項目名 | C8: 入力欄
B9: 組織（団体）名 | C9: =様式1!C21 -> 0
A10: 1. がん相談支援センター相談員基礎研修(3)を運営できる組織要件
A11: 2.01 | B11: NCCが提供する相談員研修の理念や方針に賛同している
A12: 2.02 | B12: 法人格を持つ保健医療福祉領域の組織・団体（学術団体、職能団体等）である
A13: 2.03 | B13: 「がん診療に携わる医療従事者の教育」や「がん相談支援の充実」等を組織の理念・活動方針としている
A14: 2.04 | B14: 複数の職種を対象とする学びの場（研修会や講演会など）を提供できる ※ 相談員は看護職や福祉職・心理職等の複数の職種で構成されるため、単一職種を会員とする組織の場合はその他の組織と協働し、多職種での学びの場を提供できる
A15: 2.05 | B15: 3年以上の継続性をもってがん相談支援センター相談員基礎研修（3）を開催する意思がある
A16: 2.06 | B16: 研修運営の申請ために外部資金や寄付金を新たに獲得する場合、NCCへの事前申告とともに研修募集要項にも明示し、事業運営の透明性を確保する
A17: 2.07 | B17: 事業のメンバーとして、事業を統括する事業統括責任者、事務業務を統括する事務業務責任者、研修内容を判断する研修企画責任者を配置する ※ 研修企画責任者は、基礎(3)の講師を1回以上または副講師を2回以上経験した者に依頼する
A18: 2.08 | B18: その他、本事業に関連して必要となる書類や資料、報告書等を、期日までにNCCに提出する ※ 報告書の締切は開催後2ヶ月以内とし、12月開催の報告書の締切は翌年の1月末日とする
A19: 2. がん相談支援センター相談員基礎研修(3)運営上の必須要件
A20: 2.09 | B20: 研修名は独自に設定することを可とするが、がん相談支援センター相談員基礎研修(3)に準拠する研修であることならびにNCCが指定する文言を、募集要項および修了証書に明示する
A21: 2.1 | B21: 受講生は、NCCがE-Learning形式で提供している全国のがん相談支援センター相談員基礎研修（1）（2）の修了者を対象とする（未終了者の受講は不可）。 ※ 主催や共催となる組織（学術団体や職能団体等）に所属する、または組織の所在地（地域や都道府県等）等の受講生を優先して受講確定する場合は、定員の50％以内とする
A22: 2.11 | B22: 開催日は2026年9～12月頃（複数年申請の場合は2027年9～12月頃）までとし、定員は42または84名で設定する
A23: 2.12 | B23: 受講料は税抜きで5万円以内とし、営利目的での研修運営とならないような金額とする
A24: 2.13 | B24: 研修運営にかかる一連の対応（広報、講師・副講師の依頼および調整、申込受付、受講料徴収、名簿の作成、オンライン会議システムの設定、当日運営、修了証書発行、アンケートの設定・集計等）は、当該および共催する組織にて完結する（当日運営の事務の一部を外部業者に委託することは可）
A25: 2.14 | B25: NCCとの研修運営に関わる打ち合わせの機会を2～3回程度設定する
A26: 2.15 | B26: その他、運営マニュアル１を確認し、柔軟に対応する
A27: 3. がん相談支援センター相談員基礎研修(3)の質担保のための必須要件
A28: 2.16 | B28: NCC主催の基礎（3）と同一の研修プログラム・提供体制（定員、開始・終了時刻；講師・副講師向けの当日打ち合わせを含む、講義資料、ファシリテーターマニュアル、開催形式等）とし、改変や修正等は加えない ※ NCCより提供のあった資料等の主催者名や研修名の変更およびアンケート項目の追加は、可とする
A29: 2.17 | B29: 講師（チーフファシリテーター）・副講師（グループファシリテーター）は、NCCより提供された講師・副講師リストに記載されている基礎（3）の講師・副講師経験者、または過去に貴組織で基礎(3)に準拠すると承認された研修を開催した際の講師・副講師経験者に依頼する ※ 講師・副講師リストは組織および共催組織内での閲覧のみとし、依頼目的以外には使用しない。また、流出には十分に注意し、研修終了後は適切に破棄する
A30: 2.18 | B30: 研修当日の流れや留意点等を確認する講師・副講師向けの打ち合わせ（講師・副講師研修）を、運営マニュアル２を参考に事前に開催する
A31: 2.19 | B31: 研修終了後にNCCが提供する知識や意識の程度を確認するアンケート等を受講生に実施し、その結果をNCCに報告すること。NCCより、研修の見学やヒアリングなどの要請があった場合は受け入れる
A32: 2.2 | B32: その他、運営マニュアル１および研修当日／講師・副講師研修マニュアルを確認し、柔軟に対応する

Sheet 様式3
A1: 【様式3】運営体制申請書
A3: 国立がん研究センターがん相談支援センター相談員基礎研修(3)提供可能な組織の募集
A4: 運営体制申請書
A6: がん相談支援センター相談員基礎研修(3)に準拠する研修の運営体制は、以下の通りです。 記載内容に修正が生じた場合は、直ちに修正箇所の報告いたします。
A8: （* 回答必須項目)
B9: 番号 | C9: 項目名 | D9: 入力欄 | E9: 備考
C10: 組織（団体）名 | D10: =様式1!C21 -> 0 | E10: 自動入力
B11: 運営体制（事業統括責任者）
A12: * | B12: 3.01 | C12: 部署名
A13: * | B13: 3.02 | C13: 氏名
B14: 3.03 | C14: 内線番号 | E14: 【半角】内線番号がある場合に入力
B15: 3.04 | C15: メールアドレス | E15: 【半角】
A16: * | B16: 3.05 | C16: 事業統括経験
B17: 運営体制（事務業務責任者）
A18: * | B18: 3.06 | C18: 部署名 | E18: 共催組織の担当者が担う場合は、組織（団体）名および部署名を入力
A19: * | B19: 3.07 | C19: 氏名
B20: 3.08 | C20: 内線番号 | E20: 【半角】 共催組織の担当者が担う場合は、代表電話番号および内線番号（ある場合）を入力
B21: 3.09 | C21: メールアドレス | E21: 【半角】
A22: * | B22: 3.1 | C22: 研修運営の経験
B23: 運営体制（研修企画責任者）
A24: * | B24: 3.11 | C24: 部署名 | E24: 共催組織の担当者が担う場合は、組織（団体）名および部署名を入力
A25: * | B25: 3.12 | C25: 氏名
B26: 3.13 | C26: 内線番号 | E26: 【半角】 共催組織の担当者が担う場合は、代表電話番号および内線番号（ある場合）を入力
A27: * | B27: 3.14 | C27: メールアドレス | E27: 【半角】
A28: * | B28: 3.15 | C28: 研修企画および基礎研修(3)の講師・副講師経験
B29: 運営体制（申請時に窓口となる者）
A30: * | B30: 3.16 | C30: 部署名
A31: * | B31: 3.17 | C31: 氏名
B32: 3.18 | C32: 内線番号 | E32: 【半角】内線番号がある場合に入力
A33: * | B33: 3.19 | C33: メールアドレス | E33: 【半角】結果通知後の連絡等で使用
A34: * | B34: 3.2 | C34: 担当する役割・業務 | E34: 担当する役割・業務について具体的に記入
B35: 運営体制（上記以外の担当者①）
A36: * | B36: 3.21 | C36: 部署名 | E36: 共催組織の担当者が担う場合は、組織（団体）名および部署名を入力
A37: * | B37: 3.22 | C37: 氏名
B38: 3.23 | C38: 内線番号 | E38: 【半角】 共催組織の担当者が担う場合は、代表電話番号および内線番号（ある場合）を入力
A39: * | B39: 3.24 | C39: メールアドレス | E39: 【半角】
A40: * | B40: 3.25 | C40: 担当する役割・業務 | E40: 担当する役割・業務について具体的に記入
B41: 運営体制（上記以外の担当者②）
B42: 3.26 | C42: 部署名 | E42: 共催組織の担当者が担う場合は、組織（団体）名および部署名を入力
B43: 3.27 | C43: 氏名
...

Sheet 様式4
A1: 【様式4】開催体制申請書
A3: 国立がん研究センターがん相談支援センター相談員基礎研修(3)提供可能な組織の募集
A4: 開催体制申請書
A6: がん相談支援センター相談員基礎研修(3)に準拠する研修の開催体制は、以下の通りです。 記載内容から大幅にかつ重要な項目に修正が生じた場合は、直ちに修正箇所の報告いたします。
A8: （* 回答必須項目)
B9: 番号 | C9: 項目名 | D9: 入力欄 | E9: 備考
C10: 組織（団体）名 | D10: =様式1!C21 -> 0 | E10: 自動入力
B11: 開催概要（一部項目は、NCCのウェブサイトに掲載）
A12: * | B12: 4.01 | C12: 研修名称 | E12: 研修の名称を入力（仮の場合は名称の後に(仮)と入力）
A13: * | B13: 4.02 | C13: 開催回数（2026年度） | E13: ▼を押して【選択】
A14: * | B14: 4.03 | C14: 開催回数（2027年度） | E14: ▼を押して【選択】 ※ 1.04の選択内容と合わせてください。
A15: * | B15: 4.04 | C15: 募集要項等の掲載URL （予定） | E15: 【半角】 研修案内（募集要項等）を掲載するURLを入力 ※ 申請時点でページが作成されていない場合は予定URLを入力し、決定次第、事務局まで連絡してください。
A16: * | B16: 4.05 | C16: 予定受講料 | E16: 【半角】
A17: * | B17: 4.06 | C17: 担当者部署名 | E17: 共催組織の担当者が担う場合は、組織（団体）名および部署名を入力
A18: * | B18: 4.07 | C18: 担当者氏名
A19: * | B19: 4.08 | C19: 問い合わせ先 | E19: '【半角】 メールアドレスや問い合わせフォームのURL等を入力
B20: 開催体制（開催日①）
A21: * | B21: 4.09 | C21: 開催1日目 | E21: 【半角】yyyy/m/d形式で入力 （例）2025/12/1
A22: * | B22: 4.1 | C22: 開催2日目 | E22: 【半角】yyyy/m/d形式で入力 （例）2025/12/1
A23: * | B23: 4.11 | C23: 定員 | E23: ▼を押して【選択】
A24: * | B24: 4.12 | C24: 当日責任者氏名
A25: * | B25: 4.13 | C25: 当日担当者氏名 | E25: 複数いる場合は、複数記入
B26: 開催体制（開催日②）
B27: 4.14 | C27: 開催1日目 | E27: 【半角】yyyy/m/d形式で入力 （例）2025/12/1
B28: 4.15 | C28: 開催2日目 | E28: 【半角】yyyy/m/d形式で入力 （例）2025/12/1
B29: 4.16 | C29: 定員 | E29: ▼を押して【選択】
B30: 4.17 | C30: 当日責任者氏名
B31: 4.18 | C31: 当日担当者氏名 | E31: 複数いる場合は、複数記入
B32: 開催体制（開催日③）
B33: 4.19 | C33: 開催1日目 | E33: 【半角】yyyy/m/d形式で入力 （例）2025/12/1
B34: 4.2 | C34: 開催2日目 | E34: 【半角】yyyy/m/d形式で入力 （例）2025/12/1
B35: 4.21 | C35: 定員 | E35: ▼を押して【選択】
B36: 4.22 | C36: 当日責任者氏名
B37: 4.23 | C37: 当日担当者氏名 | E37: 複数いる場合は、複数記入
B38: 開催体制（開催日④）
B39: 4.24 | C39: 開催1日目 | E39: 【半角】yyyy/m/d形式で入力 （例）2025/12/1
B40: 4.25 | C40: 開催2日目 | E40: 【半角】yyyy/m/d形式で入力 （例）2025/12/1
B41: 4.26 | C41: 定員 | E41: ▼を押して【選択】
B42: 4.27 | C42: 当日責任者氏名
B43: 4.28 | C43: 当日担当者氏名 | E43: 複数いる場合は、複数記入
...

Sheet 様式5
A1: 【様式5】事業予定表
A3: 国立がん研究センターがん相談支援センター相談員基礎研修(3)提供可能な組織の募集
A4: 事業計画（予定）表
A6: がん相談支援センター相談員基礎研修(3)に準拠する研修の事業予定は、以下の通りです。 記載内容から大幅にかつ重要な項目に修正が生じた場合は、直ちに修正箇所の報告いたします。
A8: 組織（団体）名：
A9: （* 回答必須項目)
B10: 番号 | C10: 項目名 | D10: 入力欄 | E10: 備考
C11: 組織（団体）名 | D11: =様式1!C21 -> 0 | E11: 自動入力
B12: 事業計画（予定）（2026年～2028年）
A13: * | B13: 5.01 | E13: 様式2.07にかかる向こう3年の事業計画（予算、開催回数、責任者や担当者などの参画メンバー等）をできるだけ具体的に入力
B14: 番号 | C14: 月 | D14: 入力欄 | E14: 備考
B15: 申請年数1年（2026年2月～2027年1月）
B16: 5.02 | C16: 2月 | E16: できるだけ具体的に入力 例）●●へ周知、募集要項を掲載
B17: 5.03 | C17: 3月 | E17: できるだけ具体的に入力 例）●●へ周知、募集要項を掲載
B18: 5.04 | C18: 4月 | E18: できるだけ具体的に入力 例）●●へ周知、募集要項を掲載
B19: 5.05 | C19: 5月 | E19: できるだけ具体的に入力 例）●●へ周知、募集要項を掲載
B20: 5.06 | C20: 6月 | E20: できるだけ具体的に入力 例）●●へ周知、募集要項を掲載
B21: 5.07 | C21: 7月 | E21: できるだけ具体的に入力 例）●●へ周知、募集要項を掲載
B22: 5.08 | C22: 8月 | E22: できるだけ具体的に入力 例）●●へ周知、募集要項を掲載
B23: 5.09 | C23: 9月 | E23: できるだけ具体的に入力 例）●●へ周知、募集要項を掲載
B24: 5.1 | C24: 10月 | E24: できるだけ具体的に入力 例）●●へ周知、募集要項を掲載
B25: 5.11 | C25: 11月 | E25: できるだけ具体的に入力 例）●●へ周知、募集要項を掲載
B26: 5.12 | C26: 12月 | E26: できるだけ具体的に入力 例）●●へ周知、募集要項を掲載
B27: 5.13 | C27: 2027年1月 | E27: できるだけ具体的に入力 例）●●へ周知、募集要項を掲載
B28: 申請年数2年（2027年2月～2028年1月）
B29: 5.14 | C29: 2月 | E29: 1.04で申請年数2年の場合に、できるだけ具体的に入力 例）●●へ周知、募集要項を掲載
B30: 5.15 | C30: 3月 | E30: 1.04で申請年数2年の場合に、できるだけ具体的に入力 例）●●へ周知、募集要項を掲載
B31: 5.16 | C31: 4月 | E31: 1.04で申請年数2年の場合に、できるだけ具体的に入力 例）●●へ周知、募集要項を掲載
B32: 5.17 | C32: 5月 | E32: 1.04で申請年数2年の場合に、できるだけ具体的に入力 例）●●へ周知、募集要項を掲載
B33: 5.18 | C33: 6月 | E33: 1.04で申請年数2年の場合に、できるだけ具体的に入力 例）●●へ周知、募集要項を掲載
B34: 5.19 | C34: 7月 | E34: 1.04で申請年数2年の場合に、できるだけ具体的に入力 例）●●へ周知、募集要項を掲載
B35: 5.2 | C35: 8月 | E35: 1.04で申請年数2年の場合に、できるだけ具体的に入力 例）●●へ周知、募集要項を掲載
B36: 5.21 | C36: 9月 | E36: 1.04で申請年数2年の場合に、できるだけ具体的に入力 例）●●へ周知、募集要項を掲載
B37: 5.22 | C37: 10月 | E37: 1.04で申請年数2年の場合に、できるだけ具体的に入力 例）●●へ周知、募集要項を掲載
B38: 5.23 | C38: 11月 | E38: 1.04で申請年数2年の場合に、できるだけ具体的に入力 例）●●へ周知、募集要項を掲載
B39: 5.24 | C39: 12月 | E39: 1.04で申請年数2年の場合に、できるだけ具体的に入力 例）●●へ周知、募集要項を掲載
B40: 5.25 | C40: 2028年1月 | E40: 1.04で申請年数2年の場合に、できるだけ具体的に入力 例）●●へ周知、募集要項を掲載
B41: その他、事業予定に関する特記事項
B42: 5.26 | E42: 特記事項がある場合に入力

Sheet 様式6
A1: 【様式6】年間収支計画書（概算）
A3: 国立がん研究センターがん相談支援センター相談員基礎研修(3)提供可能な組織の募集
A4: 年間収支計画書（概算）
A6: がん相談支援センター相談員基礎研修(3)に準拠する研修の収支計画（概算）は、以下の通りです。 記載内容から大幅に修正が生じた場合は、直ちに修正箇所の報告いたします。
A7: （* 回答必須項目) ↓↓↓ おおよその収支の流れを知るためであり概算で可
B8: 番号 | C8: 項目名 | D8: 入力欄 | G8: 備考
C9: 組織（団体）名 | D9: =様式1!C21 -> 0 | G9: 自動入力
B10: 番号 | C10: 項目名 | D10: 単価（半角） | E10: 数量（半角） | F10: 金額（半角） | G10: 備考
B11: 収入
A12: * | B12: 6.01 | C12: 受講料 | F12: =D12*E12 -> 0 | G12: 【半角】'”なし”の場合は0と記入 ※ 4.05の内容と合わせてください。
A13: * | B13: 6.02 | C13: 研修運営のために獲得した外部資金や寄付金等 | F13: =D13*E13 -> 0 | G13: 【半角】'”なし”の場合は0と記入
B14: 6.03 | C14: その他（ ） | F14: =D14*E14 -> 0 | G14: 詳細は（ ）に記入
B15: 6.04 | C15: その他（ ） | F15: =D15*E15 -> 0 | G15: 詳細は（ ）に記入
B16: 6.05 | C16: その他（ ） | F16: =D16*E16 -> 0 | G16: 詳細は（ ）に記入
A17: * | B17: 6.06 | C17: 合計 | F17: =F12+F13+F14+F15+F16 -> 0 | G17: 自動入力
B18: 支出
A19: * | B19: 6.07 | C19: 講師謝金 | F19: =D19*E19 -> 0 | G19: ”なし”の場合は0と記入
A20: * | B20: 6.08 | C20: 副講師謝金 | F20: =D20*E20 -> 0 | G20: ”なし”の場合は0と記入
A21: * | B21: 6.09 | C21: 講師・副講師旅費等 | F21: =D21*E21 -> 0 | G21: ”なし”の場合は0と記入
B22: 6.1 | C22: その他、謝金や旅費等 | F22: =D22*E22 -> 0 | G22: 謝金や旅費等の支払先が別途ある場合に詳細欄に記入
B23: 6.11 | C23: 業務委託（ ） | F23: =D23*E23 -> 0 | G23: 業務委託の内容を（ ）に記入
B24: 6.12 | C24: 業務委託（ ） | F24: =D24*E24 -> 0 | G24: 業務委託の内容を（ ）に記入
B25: 6.13 | C25: 業務委託（ ） | F25: =D25*E25 -> 0 | G25: 業務委託の内容を（ ）に記入
B26: 6.14 | C26: その他（ ） | F26: =D26*E26 -> 0 | G26: 詳細は（ ）に記入
B27: 6.15 | C27: その他（ ） | F27: =D27*E27 -> 0 | G27: 詳細は（ ）に記入
B28: 6.16 | C28: その他（ ） | F28: =D28*E28 -> 0 | G28: 詳細は（ ）に記入
B29: 6.17 | C29: 合計 | F29: =F19+F20+F21+F22+F23+F24+F25+F26+F27+F28 -> 0 | G29: 自動入力
B30: 番号 | C30: 項目名 | D30: 入力欄 | G30: 備考
B31: その他、年間収支計画に関する特記事項
B32: 6.18 | G32: 特記事項がある場合に入力

Sheet Sheet1
A2: 1）新規 | B2: 2）継続
A3: 1）初回 | B3: 2）2回目
A4: 1）1年（2026年度） | B4: 2）2年（2026・2027年度）
A5: 北海道 | B5: 青森県 | C5: 岩手県 | D5: 宮城県 | E5: 秋田県 | F5: 山形県 | G5: 福島県 | H5: 茨城県 | I5: 栃木県 | J5: 群馬県 | K5: 埼玉県 | L5: 千葉県 | M5: 東京都 | N5: 神奈川県 | O5: 新潟県 | P5: 富山県 | Q5: 石川県 | R5: 福井県 | S5: 山梨県 | T5: 長野県 | U5: 岐阜県 | V5: 静岡県 | W5: 愛知県 | X5: 三重県 | Y5: 滋賀県 | Z5: 京都府 | AA5: 大阪府 | AB5: 兵庫県 | AC5: 奈良県 | AD5: 和歌山県 | AE5: 鳥取県 | AF5: 島根県 | AG5: 岡山県 | AH5: 広島県 | AI5: 山口県 | AJ5: 徳島県 | AK5: 香川県 | AL5: 愛媛県 | AM5: 高知県 | AN5: 福岡県 | AO5: 佐賀県 | AP5: 長崎県 | AQ5: 熊本県 | AR5: 大分県 | AS5: 宮崎県 | AT5: 鹿児島県 | AU5: 沖縄県
A6: ◎はい | B6: ×いいえ
A7: ◎約束できる | B7: ×約束できない
A8: 1回 | B8: 2回 | C8: 3回 | D8: 4回
A9: 1回 | B9: 2回 | C9: 3回 | D9: 4回 | E9: 5回 | F9: 2027年度は申請なし
A10: 42名 | B10: 84名
